BEGIN:VCALENDAR
VERSION:2.0
PRODID:-//Le pas de l&#039;oiseau - ECPv6.15.20//NONSGML v1.0//EN
CALSCALE:GREGORIAN
METHOD:PUBLISH
X-ORIGINAL-URL:https://www.lepasdeloiseau.fr
X-WR-CALDESC:Évènements pour Le pas de l&#039;oiseau
REFRESH-INTERVAL;VALUE=DURATION:PT1H
X-Robots-Tag:noindex
X-PUBLISHED-TTL:PT1H
BEGIN:VTIMEZONE
TZID:Europe/Paris
BEGIN:DAYLIGHT
TZOFFSETFROM:+0100
TZOFFSETTO:+0200
TZNAME:CEST
DTSTART:20220327T010000
END:DAYLIGHT
BEGIN:STANDARD
TZOFFSETFROM:+0200
TZOFFSETTO:+0100
TZNAME:CET
DTSTART:20221030T010000
END:STANDARD
BEGIN:DAYLIGHT
TZOFFSETFROM:+0100
TZOFFSETTO:+0200
TZNAME:CEST
DTSTART:20230326T010000
END:DAYLIGHT
BEGIN:STANDARD
TZOFFSETFROM:+0200
TZOFFSETTO:+0100
TZNAME:CET
DTSTART:20231029T010000
END:STANDARD
BEGIN:DAYLIGHT
TZOFFSETFROM:+0100
TZOFFSETTO:+0200
TZNAME:CEST
DTSTART:20240331T010000
END:DAYLIGHT
BEGIN:STANDARD
TZOFFSETFROM:+0200
TZOFFSETTO:+0100
TZNAME:CET
DTSTART:20241027T010000
END:STANDARD
BEGIN:DAYLIGHT
TZOFFSETFROM:+0100
TZOFFSETTO:+0200
TZNAME:CEST
DTSTART:20250330T010000
END:DAYLIGHT
BEGIN:STANDARD
TZOFFSETFROM:+0200
TZOFFSETTO:+0100
TZNAME:CET
DTSTART:20251026T010000
END:STANDARD
END:VTIMEZONE
BEGIN:VEVENT
DTSTART;TZID=Europe/Paris:20240203T200000
DTEND;TZID=Europe/Paris:20240203T200000
DTSTAMP:20260423T003828
CREATED:20231110T100540Z
LAST-MODIFIED:20240104T074712Z
UID:6104-1706990400-1706990400@www.lepasdeloiseau.fr
SUMMARY:Heureuse qui comme Armelle
DESCRIPTION:Clown-Récit\, dès 6 ans \nArmelle aime parler\, colporter et transmettre des histoires de héros qui font partie de notre imaginaire collectif. Elle parcourt les routes et s’arrête quand elle rencontre de jeunes oreilles attentives. Elle va vous raconter à sa sauce l’épopée d’Ulysse. Une version déformée et transformée\, parfois tronquée\, car Armelle ne s’attache qu’aux épisodes qui la font vibrer ! Pour relater cette épopée\, les formes utilisées sont la jonglerie théâtrale\, le conte et la manipulation d’objets. Ecoutez cette histoire d’à-peu-près Homère…
URL:https://www.lepasdeloiseau.fr/event/heureuse-qui-comme-armelle/
LOCATION:Le Quai des Arts\, 2 avenue des Martyrs\, Veynes\, 05400\, France
CATEGORIES:Spectacles accueillis
ATTACH;FMTTYPE=image/jpeg:https://www.lepasdeloiseau.fr/wp-content/uploads/2023/12/FMdF-9873.jpeg
ORGANIZER;CN="Le pas de l'oiseau":MAILTO:lepasdeloiseau@gmail.com
END:VEVENT
BEGIN:VEVENT
DTSTART;TZID=Europe/Paris:20240131T200000
DTEND;TZID=Europe/Paris:20240131T210000
DTSTAMP:20260423T003828
CREATED:20231110T100314Z
LAST-MODIFIED:20240104T072827Z
UID:6096-1706731200-1706734800@www.lepasdeloiseau.fr
SUMMARY:Chaudun\, la montagne blessée
DESCRIPTION:Salle du Queyron\, Guillestre (05) Représentation organisée par Musiqueyras Suivie d’un bal Folk du Duo Vargoz
URL:https://www.lepasdeloiseau.fr/event/chaudun-la-montagne-blessee/
LOCATION:le queyron\, guillestre\, guillestre
CATEGORIES:Nos spectacles en tournée
END:VEVENT
BEGIN:VEVENT
DTSTART;TZID=Europe/Paris:20240112T203000
DTEND;TZID=Europe/Paris:20240112T203000
DTSTAMP:20260423T003828
CREATED:20240104T074956Z
LAST-MODIFIED:20240104T074956Z
UID:6306-1705091400-1705091400@www.lepasdeloiseau.fr
SUMMARY:Le jour se lève encore [nos créations]
DESCRIPTION:“Le jour se lève encore”\, c‘est le récit croisé de trois histoires : \nUne famille d’aujourd’hui\, éprouvée par une vie trop confinée\, qui doute et cherche à faire pousser ses jours d’après\, \nUn ouvrier en usine électrique au début du XXème siècle qui tente de faire mentir sa destinée de misère\, \nUn gamin de l’assistance publique\, qui se bat toute sa vie contre la fatalité\, devient ministre et nationalise l’électricité. \nTrois histoires\, côtoyant la Grande\, qui illustrent à quel point\, dans les moments les plus sombres\, l’être humain ne cesse de chercher la lumière.
URL:https://www.lepasdeloiseau.fr/event/le-jour-se-leve-encore-nos-creations/
LOCATION:Garde Colombe (05)\, salle des fêtes\, garde colombes
ORGANIZER;CN="Soupes et Bobines":MAILTO:soupesetbobines@orange.fr
END:VEVENT
BEGIN:VEVENT
DTSTART;TZID=Europe/Paris:20231118T163000
DTEND;TZID=Europe/Paris:20231118T170000
DTSTAMP:20260423T003828
CREATED:20231110T101038Z
LAST-MODIFIED:20231110T101120Z
UID:6106-1700325000-1700326800@www.lepasdeloiseau.fr
SUMMARY:Zorro [nos spectacles en tournées]
DESCRIPTION:Salle du Quai des Arts\, Veynes (05) \nReprésentation organisée par le Pôle Culturel Le Quai des Arts
URL:https://www.lepasdeloiseau.fr/event/zorro-nos-spectacles-en-tournees/
END:VEVENT
END:VCALENDAR